BEGIN:VCALENDAR
VERSION:2.0
PRODID:-//DOSI - ECPv6.15.20//NONSGML v1.0//EN
CALSCALE:GREGORIAN
METHOD:PUBLISH
X-WR-CALNAME:DOSI
X-ORIGINAL-URL:https://www.dosi-project.org
X-WR-CALDESC:Events for DOSI
REFRESH-INTERVAL;VALUE=DURATION:PT1H
X-Robots-Tag:noindex
X-PUBLISHED-TTL:PT1H
BEGIN:VTIMEZONE
TZID:UTC
BEGIN:STANDARD
TZOFFSETFROM:+0000
TZOFFSETTO:+0000
TZNAME:UTC
DTSTART:20240101T000000
END:STANDARD
END:VTIMEZONE
BEGIN:VEVENT
DTSTART;VALUE=DATE:20250512
DTEND;VALUE=DATE:20250517
DTSTAMP:20260422T225918
CREATED:20250202T165310Z
LAST-MODIFIED:20250202T165615Z
UID:18625-1747008000-1747439999@www.dosi-project.org
SUMMARY:GeoHab 2025
DESCRIPTION:GeoHab (Marine Geological and Biological Habitat Mapping) is an international association of marine scientists studying and mapping geophysical\, biophysical and geomorphic indicators of benthic communities\, species diversity and distribution. \nGeoHab’s 2025 annual conference will be held for the first time in the Southeastern United States\, in unique Key West\, from Monday May 12 to Friday May 16. \nImportant dates\nAbstract submission deadline: January 17\, 2025 Postponed to January 24\, 2025 \nRon McDowell Award application deadline: January 17\, 2025 Postponed to January 24\, 2025 \nAbstract acceptance notification: February 17\, 2025 \nEarly-bird registration closes: March 31\, 2025 \nRegistration ends: April 30\, 2025
URL:https://www.dosi-project.org/event/geohab-2025/
LOCATION:Key West\, The Florida Keys\, USA
CATEGORIES:Conference
ATTACH;FMTTYPE=image/png:https://www.dosi-project.org/wp-content/uploads/LOGO_GEOHAB-2025-01-1280x460-1.png
END:VEVENT
END:VCALENDAR