BEGIN:VCALENDAR
VERSION:2.0
PRODID:-//DOSI - ECPv6.15.20//NONSGML v1.0//EN
CALSCALE:GREGORIAN
METHOD:PUBLISH
X-WR-CALNAME:DOSI
X-ORIGINAL-URL:https://www.dosi-project.org
X-WR-CALDESC:Events for DOSI
REFRESH-INTERVAL;VALUE=DURATION:PT1H
X-Robots-Tag:noindex
X-PUBLISHED-TTL:PT1H
BEGIN:VTIMEZONE
TZID:UTC
BEGIN:STANDARD
TZOFFSETFROM:+0000
TZOFFSETTO:+0000
TZNAME:UTC
DTSTART:20240101T000000
END:STANDARD
END:VTIMEZONE
BEGIN:VTIMEZONE
TZID:Europe/Paris
BEGIN:DAYLIGHT
TZOFFSETFROM:+0100
TZOFFSETTO:+0200
TZNAME:CEST
DTSTART:20240331T010000
END:DAYLIGHT
BEGIN:STANDARD
TZOFFSETFROM:+0200
TZOFFSETTO:+0100
TZNAME:CET
DTSTART:20241027T010000
END:STANDARD
BEGIN:DAYLIGHT
TZOFFSETFROM:+0100
TZOFFSETTO:+0200
TZNAME:CEST
DTSTART:20250330T010000
END:DAYLIGHT
BEGIN:STANDARD
TZOFFSETFROM:+0200
TZOFFSETTO:+0100
TZNAME:CET
DTSTART:20251026T010000
END:STANDARD
BEGIN:DAYLIGHT
TZOFFSETFROM:+0100
TZOFFSETTO:+0200
TZNAME:CEST
DTSTART:20260329T010000
END:DAYLIGHT
BEGIN:STANDARD
TZOFFSETFROM:+0200
TZOFFSETTO:+0100
TZNAME:CET
DTSTART:20261025T010000
END:STANDARD
END:VTIMEZONE
BEGIN:VEVENT
DTSTART;VALUE=DATE:20250609
DTEND;VALUE=DATE:20250614
DTSTAMP:20260422T213942
CREATED:20250202T170811Z
LAST-MODIFIED:20250529T152846Z
UID:18636-1749427200-1749859199@www.dosi-project.org
SUMMARY:DOSI at 2025 UN Ocean Conference
DESCRIPTION:DOSI will be participating in the Third United Nations Ocean Conference in France from 7 to 13 June 2025 \nFor a full list of DOSI events during the conference\,\nvisit DOSI at UNOC3
URL:https://www.dosi-project.org/event/2025-un-ocean-conference/
LOCATION:UNOC3 Blue Zone Room 3\, Nice\, France
CATEGORIES:Conference
ATTACH;FMTTYPE=image/png:https://www.dosi-project.org/wp-content/uploads/Capture.png
END:VEVENT
BEGIN:VEVENT
DTSTART;VALUE=DATE:20250610
DTEND;VALUE=DATE:20250613
DTSTAMP:20260422T213942
CREATED:20250520T152331Z
LAST-MODIFIED:20250520T152331Z
UID:19410-1749513600-1749772799@www.dosi-project.org
SUMMARY:2nd Expert Scoping Workshop: Charting future horizons
DESCRIPTION:Harnessing advanced technologies for the protection and sustainable use of the international seabed area: “Monitoring”
URL:https://www.dosi-project.org/event/2nd-expert-scoping-workshop-charting-future-horizons/
LOCATION:ISA\, Jamaica
END:VEVENT
BEGIN:VEVENT
DTSTART;TZID=Europe/Paris:20250612T170000
DTEND;TZID=Europe/Paris:20250612T190000
DTSTAMP:20260422T213942
CREATED:20250519T033500Z
LAST-MODIFIED:20250529T142219Z
UID:19356-1749747600-1749754800@www.dosi-project.org
SUMMARY:UNOC3: DOSI Green Zone Side Event
DESCRIPTION:UNOC3 DOSI Green Zone Side Event\n \nYou will need a ticket to attend this event. Tickets are free and available here.\nA light snack and drinks will be provided. \nTitle: Safeguarding Deep-Sea Biodiversity and the Climate: Integrating Science and Policy for a Sustainable Future\nSession ID: 065\nDate: Thursday 12 May 2025\nTime: 5-7 pm\nVenue: Auditorium\, Citadelle de Villefranche \nPanel:\n• TBC \nModerator:\n• TBC \nAdditional partners/experts in audience:\n• TBC \nAbstract:  The deep ocean contains over 90 percent of the living space for life on Earth\, and the remarkable diversity and collective actions of its inhabitants are critical for human and planetary well-being. While it can seem remote and unchanging\, deep-sea biodiversity faces clear and increasing threats from human activities such as deep-sea mining\, fishing\, pollution\, and proposed ocean-based climate change mitigation options\, as well as from climate change itself. To ensure ocean ecosystems can continue to support a liveable planet\, biodiversity\, climate and sustainability goals must be aligned. This may require new and enhanced governance partnerships and policy solutions\, informed by impartial\, up-to-date ocean science. This is becoming especially important in light of the new challenges faced by the global science community and established governance structures. In this session\, a panel of deep-sea scientists and policy experts will shine a light on linkages between the many different ocean governance processes that can benefit from a greater understanding of how the deep ocean works. There is a growing recognition that joined-up thinking is required at the nexus of biodiversity\, climate\, food\, health and water\, to ensure effective and sustainable management across sectors\, supported by robust international laws. A new and unprecedented level of science and policy diplomacy will be required for success.
URL:https://www.dosi-project.org/event/unoc3-dosi-green-zone-side-event/
LOCATION:Auditorium\, Citadelle de Villefranche\, France
END:VEVENT
END:VCALENDAR