BEGIN:VCALENDAR
VERSION:2.0
PRODID:-//DOSI - ECPv6.15.20//NONSGML v1.0//EN
CALSCALE:GREGORIAN
METHOD:PUBLISH
X-ORIGINAL-URL:https://www.dosi-project.org
X-WR-CALDESC:Events for DOSI
REFRESH-INTERVAL;VALUE=DURATION:PT1H
X-Robots-Tag:noindex
X-PUBLISHED-TTL:PT1H
BEGIN:VTIMEZONE
TZID:UTC
BEGIN:STANDARD
TZOFFSETFROM:+0000
TZOFFSETTO:+0000
TZNAME:UTC
DTSTART:20240101T000000
END:STANDARD
END:VTIMEZONE
BEGIN:VTIMEZONE
TZID:Europe/Paris
BEGIN:DAYLIGHT
TZOFFSETFROM:+0100
TZOFFSETTO:+0200
TZNAME:CEST
DTSTART:20240331T010000
END:DAYLIGHT
BEGIN:STANDARD
TZOFFSETFROM:+0200
TZOFFSETTO:+0100
TZNAME:CET
DTSTART:20241027T010000
END:STANDARD
BEGIN:DAYLIGHT
TZOFFSETFROM:+0100
TZOFFSETTO:+0200
TZNAME:CEST
DTSTART:20250330T010000
END:DAYLIGHT
BEGIN:STANDARD
TZOFFSETFROM:+0200
TZOFFSETTO:+0100
TZNAME:CET
DTSTART:20251026T010000
END:STANDARD
BEGIN:DAYLIGHT
TZOFFSETFROM:+0100
TZOFFSETTO:+0200
TZNAME:CEST
DTSTART:20260329T010000
END:DAYLIGHT
BEGIN:STANDARD
TZOFFSETFROM:+0200
TZOFFSETTO:+0100
TZNAME:CET
DTSTART:20261025T010000
END:STANDARD
END:VTIMEZONE
BEGIN:VTIMEZONE
TZID:Europe/Helsinki
BEGIN:DAYLIGHT
TZOFFSETFROM:+0200
TZOFFSETTO:+0300
TZNAME:EEST
DTSTART:20240331T010000
END:DAYLIGHT
BEGIN:STANDARD
TZOFFSETFROM:+0300
TZOFFSETTO:+0200
TZNAME:EET
DTSTART:20241027T010000
END:STANDARD
BEGIN:DAYLIGHT
TZOFFSETFROM:+0200
TZOFFSETTO:+0300
TZNAME:EEST
DTSTART:20250330T010000
END:DAYLIGHT
BEGIN:STANDARD
TZOFFSETFROM:+0300
TZOFFSETTO:+0200
TZNAME:EET
DTSTART:20251026T010000
END:STANDARD
BEGIN:DAYLIGHT
TZOFFSETFROM:+0200
TZOFFSETTO:+0300
TZNAME:EEST
DTSTART:20260329T010000
END:DAYLIGHT
BEGIN:STANDARD
TZOFFSETFROM:+0300
TZOFFSETTO:+0200
TZNAME:EET
DTSTART:20261025T010000
END:STANDARD
END:VTIMEZONE
BEGIN:VTIMEZONE
TZID:America/New_York
BEGIN:DAYLIGHT
TZOFFSETFROM:-0500
TZOFFSETTO:-0400
TZNAME:EDT
DTSTART:20250309T070000
END:DAYLIGHT
BEGIN:STANDARD
TZOFFSETFROM:-0400
TZOFFSETTO:-0500
TZNAME:EST
DTSTART:20251102T060000
END:STANDARD
BEGIN:DAYLIGHT
TZOFFSETFROM:-0500
TZOFFSETTO:-0400
TZNAME:EDT
DTSTART:20260308T070000
END:DAYLIGHT
BEGIN:STANDARD
TZOFFSETFROM:-0400
TZOFFSETTO:-0500
TZNAME:EST
DTSTART:20261101T060000
END:STANDARD
BEGIN:DAYLIGHT
TZOFFSETFROM:-0500
TZOFFSETTO:-0400
TZNAME:EDT
DTSTART:20270314T070000
END:DAYLIGHT
BEGIN:STANDARD
TZOFFSETFROM:-0400
TZOFFSETTO:-0500
TZNAME:EST
DTSTART:20271107T060000
END:STANDARD
END:VTIMEZONE
BEGIN:VTIMEZONE
TZID:Europe/Paris
BEGIN:DAYLIGHT
TZOFFSETFROM:+0100
TZOFFSETTO:+0200
TZNAME:CEST
DTSTART:20250330T010000
END:DAYLIGHT
BEGIN:STANDARD
TZOFFSETFROM:+0200
TZOFFSETTO:+0100
TZNAME:CET
DTSTART:20251026T010000
END:STANDARD
BEGIN:DAYLIGHT
TZOFFSETFROM:+0100
TZOFFSETTO:+0200
TZNAME:CEST
DTSTART:20260329T010000
END:DAYLIGHT
BEGIN:STANDARD
TZOFFSETFROM:+0200
TZOFFSETTO:+0100
TZNAME:CET
DTSTART:20261025T010000
END:STANDARD
BEGIN:DAYLIGHT
TZOFFSETFROM:+0100
TZOFFSETTO:+0200
TZNAME:CEST
DTSTART:20270328T010000
END:DAYLIGHT
BEGIN:STANDARD
TZOFFSETFROM:+0200
TZOFFSETTO:+0100
TZNAME:CET
DTSTART:20271031T010000
END:STANDARD
END:VTIMEZONE
BEGIN:VEVENT
DTSTART;VALUE=DATE:20250609
DTEND;VALUE=DATE:20250614
DTSTAMP:20260422T230416
CREATED:20250202T170811Z
LAST-MODIFIED:20250529T152846Z
UID:18636-1749427200-1749859199@www.dosi-project.org
SUMMARY:DOSI at 2025 UN Ocean Conference
DESCRIPTION:DOSI will be participating in the Third United Nations Ocean Conference in France from 7 to 13 June 2025 \nFor a full list of DOSI events during the conference\,\nvisit DOSI at UNOC3
URL:https://www.dosi-project.org/event/2025-un-ocean-conference/
LOCATION:UNOC3 Blue Zone Room 3\, Nice\, France
CATEGORIES:Conference
ATTACH;FMTTYPE=image/png:https://www.dosi-project.org/wp-content/uploads/Capture.png
END:VEVENT
BEGIN:VEVENT
DTSTART;VALUE=DATE:20250610
DTEND;VALUE=DATE:20250613
DTSTAMP:20260422T230417
CREATED:20250520T152331Z
LAST-MODIFIED:20250520T152331Z
UID:19410-1749513600-1749772799@www.dosi-project.org
SUMMARY:2nd Expert Scoping Workshop: Charting future horizons
DESCRIPTION:Harnessing advanced technologies for the protection and sustainable use of the international seabed area: “Monitoring”
URL:https://www.dosi-project.org/event/2nd-expert-scoping-workshop-charting-future-horizons/
LOCATION:ISA\, Jamaica
END:VEVENT
BEGIN:VEVENT
DTSTART;TZID=Europe/Paris:20250612T170000
DTEND;TZID=Europe/Paris:20250612T190000
DTSTAMP:20260422T230417
CREATED:20250519T033500Z
LAST-MODIFIED:20250529T142219Z
UID:19356-1749747600-1749754800@www.dosi-project.org
SUMMARY:UNOC3: DOSI Green Zone Side Event
DESCRIPTION:UNOC3 DOSI Green Zone Side Event\n \nYou will need a ticket to attend this event. Tickets are free and available here.\nA light snack and drinks will be provided. \nTitle: Safeguarding Deep-Sea Biodiversity and the Climate: Integrating Science and Policy for a Sustainable Future\nSession ID: 065\nDate: Thursday 12 May 2025\nTime: 5-7 pm\nVenue: Auditorium\, Citadelle de Villefranche \nPanel:\n• TBC \nModerator:\n• TBC \nAdditional partners/experts in audience:\n• TBC \nAbstract:  The deep ocean contains over 90 percent of the living space for life on Earth\, and the remarkable diversity and collective actions of its inhabitants are critical for human and planetary well-being. While it can seem remote and unchanging\, deep-sea biodiversity faces clear and increasing threats from human activities such as deep-sea mining\, fishing\, pollution\, and proposed ocean-based climate change mitigation options\, as well as from climate change itself. To ensure ocean ecosystems can continue to support a liveable planet\, biodiversity\, climate and sustainability goals must be aligned. This may require new and enhanced governance partnerships and policy solutions\, informed by impartial\, up-to-date ocean science. This is becoming especially important in light of the new challenges faced by the global science community and established governance structures. In this session\, a panel of deep-sea scientists and policy experts will shine a light on linkages between the many different ocean governance processes that can benefit from a greater understanding of how the deep ocean works. There is a growing recognition that joined-up thinking is required at the nexus of biodiversity\, climate\, food\, health and water\, to ensure effective and sustainable management across sectors\, supported by robust international laws. A new and unprecedented level of science and policy diplomacy will be required for success.
URL:https://www.dosi-project.org/event/unoc3-dosi-green-zone-side-event/
LOCATION:Auditorium\, Citadelle de Villefranche\, France
END:VEVENT
BEGIN:VEVENT
DTSTART;TZID=Europe/Paris:20250613T103000
DTEND;TZID=Europe/Paris:20250613T113000
DTSTAMP:20260422T230417
CREATED:20250423T134626Z
LAST-MODIFIED:20250529T171401Z
UID:19225-1749810600-1749814200@www.dosi-project.org
SUMMARY:UNOC3: DOSI Blue Zone Side Event
DESCRIPTION:UNOC3 DOSI Blue Zone Side Event\n \nTitle: Safeguarding Deep-Sea Biodiversity and the Climate: Integrating Science and Policy for a Sustainable Future\nSession ID: 123\nDate: Friday 13 June 2025\nTime: 10:30-11:45 am\nVenue: Room 3 \nPanel:\n• Annette Gibbons – DFO Deputy Minister\, Canada\n• Arnoldo André Tinoco – Minister of Foreign Affairs & Culture\, Costa Rica\n• Vidar Helgesen – Executive Secretary IOC-UNESCO\n• Grethel Aguilar – Director General IUCN\n• Anna Metaxas and Lisa Levin – Deep-sea scientists \nModerator:\n• Christine Gaebel – BBNJ expert \nAdditional partners/experts in audience:\n• Representatives/experts from AOSIS\, Scripps\, MBARI\, OCP\, IPBES\, IPOS\, science. \nAbstract:  The deep ocean contains over 90 percent of the living space for life on Earth\, and the remarkable diversity and collective actions of its inhabitants are critical for human and planetary well-being. While it can seem remote and unchanging\, deep-sea biodiversity faces clear and increasing threats from human activities such as deep-sea mining\, fishing\, pollution\, and proposed ocean-based climate change mitigation options\, as well as from climate change itself. To ensure ocean ecosystems can continue to support a liveable planet\, biodiversity\, climate and sustainability goals must be aligned. This may require new and enhanced governance partnerships and policy solutions\, informed by impartial\, up-to-date ocean science. This is becoming especially important in light of the new challenges faced by the global science community and established governance structures. In this session\, a panel of deep-sea scientists and policy experts will shine a light on linkages between the many different ocean governance processes that can benefit from a greater understanding of how the deep ocean works.  There is a growing recognition that  joined-up thinking is required at the nexus of biodiversity\, climate\, food\, health and water\, to ensure effective and sustainable management across sectors\, supported by robust international laws. A new and unprecedented level of science and policy diplomacy will be required for success.
URL:https://www.dosi-project.org/event/unoc3-dosi-side-event/
LOCATION:UNOC3 Blue Zone Room 3\, Nice\, France
END:VEVENT
BEGIN:VEVENT
DTSTART;VALUE=DATE:20250616
DTEND;VALUE=DATE:20250627
DTSTAMP:20260422T230417
CREATED:20250520T151415Z
LAST-MODIFIED:20250520T151415Z
UID:19407-1750032000-1750982399@www.dosi-project.org
SUMMARY:June Climate Meetings (SB 62)
DESCRIPTION:
URL:https://www.dosi-project.org/event/june-climate-meetings-sb-62/
LOCATION:Bonn\, Germany\, Germany
END:VEVENT
BEGIN:VEVENT
DTSTART;VALUE=DATE:20250623
DTEND;VALUE=DATE:20250726
DTSTAMP:20260422T230417
CREATED:20250202T171018Z
LAST-MODIFIED:20250313T010025Z
UID:18640-1750636800-1753487999@www.dosi-project.org
SUMMARY:ISA 30 Part II
DESCRIPTION:The 30th Session of the International Seabed Authority Part II \n\n\n\nPart II\n\n\n\nLegal and Technical Commission\n23 June – 4 July 2025\n\n\nFinance Committee\n2 – 4 July 2025\n\n\nCouncil\n7 – 18 July 2025\n\n\nAssembly\n21 July – 25 July 2025
URL:https://www.dosi-project.org/event/the-30th-session-of-the-international-seabed-authority-part-ii/
LOCATION:Jamaica\, Jamaica
CATEGORIES:ISA Meeting
ATTACH;FMTTYPE=image/jpeg:https://www.dosi-project.org/wp-content/uploads/ISA.jpg
END:VEVENT
BEGIN:VEVENT
DTSTART;VALUE=DATE:20251009
DTEND;VALUE=DATE:20251016
DTSTAMP:20260422T230417
CREATED:20250202T171310Z
LAST-MODIFIED:20250916T083109Z
UID:18642-1759968000-1760572799@www.dosi-project.org
SUMMARY:IUCN World Conservation Congress
DESCRIPTION:The IUCN World Conservation Congress is the largest gathering of nature conservation experts\, leaders and decision-makers in the world. It will help shape global priorities for nature conservation and climate change for the coming decade and beyond.
URL:https://www.dosi-project.org/event/iucn-world-conservation-congress/
LOCATION:Abu Dhabi
CATEGORIES:Conference
ATTACH;FMTTYPE=image/png:https://www.dosi-project.org/wp-content/uploads/Capture-1.png
END:VEVENT
BEGIN:VEVENT
DTSTART;VALUE=DATE:20251015
DTEND;VALUE=DATE:20251018
DTSTAMP:20260422T230417
CREATED:20251003T062455Z
LAST-MODIFIED:20251003T062455Z
UID:19972-1760486400-1760745599@www.dosi-project.org
SUMMARY:Geneva Science Diplomacy Anticipation Summit
DESCRIPTION:The 2025 Geneva Science and Diplomacy Anticipation Summit will be held from 15-17 October 2025 at CERN. \nThe Geneva Science and Diplomacy Anticipation Summit is the leading global platform where science meets diplomacy to drive impactful change. Held annually in Geneva since 2021\, the GESDA Summit convenes 1000+ scientists\, diplomats\, policymakers\, innovators\, executives and citizens to explore how cutting-edge advancements can address humanity’s most pressing challenges. From quantum computing and neurotechnology to climate action and global health\, the Summit fosters high-level dialogue and strategic collaborations that transform breakthrough science into real-world solutions. \nSummit objectives: \n\n\n\nShowcase cutting-edge scientific advancements and their associated opportunities in the next 5\, 10 and 25 years\nStrengthen the interface between science\, diplomacy\, the private sector and society to drive dialogue and collaboration on opportunities emerging from the labs\nFoster multistakeholder communities of purpose to advance global solutions\n\n\n\nWhat you can expect from this year’s GESDA Summit: \n\n\n\nAnticipatory briefings from world-renowned scientists and academics on the 5\, 10 and 25 year horizon of topics from GESDA’s Science Breakthrough Radar®.\nInteractive discussions with decision-makers about the potential impact of scientific and technological      breakthroughs for the future of people\, society and our planet.\nClosed-door workshops to advance GESDA’s most mature solution ideas and initiatives on quantum\, space diplomacy\, ecoaugmentation and more.\nPolitical assessment from leaders around the globe about their contribution to anticipatory science and diplomacy.\nExperiential demonstrations and role-play simulations.\n\n\n\nFull programme\, available here.  \nFor more information click here.
URL:https://www.dosi-project.org/event/geneva-science-diplomacy-anticipation-summit/
ATTACH;FMTTYPE=image/jpeg:https://www.dosi-project.org/wp-content/uploads/gesda-summit.jpg
END:VEVENT
BEGIN:VEVENT
DTSTART;VALUE=DATE:20260223
DTEND;VALUE=DATE:20260228
DTSTAMP:20260422T230417
CREATED:20260204T170445Z
LAST-MODIFIED:20260216T103532Z
UID:20217-1771804800-1772236799@www.dosi-project.org
SUMMARY:Ocean Sciences Meeting - Glasgow\, Scotland
DESCRIPTION:Ocean Sciences Meeting 2026\n22–27 February 2026 | Glasgow\, Scotland\n\nDOSI will be actively participating in the Ocean Sciences Meeting (OSM) 2026\, one of the world’s largest and most influential gatherings of ocean scientists\, policymakers\, technologists\, and practitioners. Held in Glasgow\, the meeting provides a critical forum to advance ocean science and ensure it informs decision-making at a time of accelerating global change. \nDOSI’s engagement at OSM 2026 reflects our commitment to ensuring that deep-ocean science is visible\, integrated\, and influential across research\, governance\, and policy discussions — from climate change and biodiversity to emerging technologies and management of human activities. \nDOSI at OSM 2026\nDOSI will contribute to the meeting through hosting a dedicated exhibition space (Booth #5) and a Town Hall session\, presenting a poster\, and by convening and supporting a wide range of sessions relevant to the deep ocean\, spanning science\, observation\, governance\, communication\, and cumulative impacts. \nDOSI Town Hall\nDeep-Ocean Science as the Foundation for a Thriving Global Ocean (TH33F) \nDOSI is hosting a Town Hall focused on the essential role of deep-ocean science in underpinning a healthy\, resilient\, and productive global ocean. This session will bring together researchers\, policymakers\, and practitioners to discuss how deep-ocean knowledge supports effective ocean governance\, informs international agreements\, and enables sustainable management across areas within and beyond national jurisdiction. \nThe Town Hall will provide space for open discussion\, community exchange\, and identification of priorities for advancing deep-ocean science in support of global ocean goals. \n\n \nDeep-Ocean Sessions at OSM 2026\nOSM 2026 features a strong programme of sessions relevant to the deep-ocean community\, including several convened or supported by DOSI working groups and members: \n\nClimate Change in the Deep Sea: Impacts\, Interventions\, and Cumulative Stressors (CC14B): Convened by the DOSI Climate Change Working Group\, this session explores how climate-driven changes interact with other pressures in deep-sea ecosystems.\nSeamounts at the Nexus of Ocean Science (DS21A & DS24A): Convened by the DOSI Fisheries Working Group\, these sessions highlight the ecological\, biogeographic\, and management importance of seamounts.\nCreating Deep Impact: Strategic Alignments Across Deep Ocean Observing\, Modelling\, Exploration\, and Technology (DS14A\, DS31A & DS33A): Sessions focused on strengthening coordination across deep-ocean research infrastructures and approaches.\nFrom High Seas to EEZs: The Role of Deep-Sea Science in Shaping Knowledge-Based Ocean Policy Decisions (DS34A): Examining how deep-sea science informs policy across jurisdictional boundaries.\nEnvironmental Impacts of Deep-Sea Mining (HC34C & HC51A): Addressing scientific evidence\, uncertainties\, and policy relevance related to seabed mining activities.\nThe Deep-Pelagic Realm as a Nexus for Ecological Connectivity (ME24D): Exploring connectivity across depth zones and ecosystems.\nMaking the Invisible Visible: Communicating and Advancing Capacity of Overlooked and Undervalued Ocean Science (ED12A & ED14B): Sessions focused on science communication\, equity\, and capacity development.\nApplying GIS to Analyze and Communicate Ocean Conditions (DO24A): Showcasing tools to support analysis and decision-making.\nFathomNet: Accelerate Analysis of Ocean Visual Data (TH43D): Highlighting advances in image-based deep-ocean data analysis.
URL:https://www.dosi-project.org/event/ocean-sciences-meeting-glasgow-scotland/
ATTACH;FMTTYPE=image/png:https://www.dosi-project.org/wp-content/uploads/a5489aa5-7043-04ff-52ce-3599f28e006e.png
END:VEVENT
BEGIN:VEVENT
DTSTART;VALUE=DATE:20260223
DTEND;VALUE=DATE:20260307
DTSTAMP:20260422T230417
CREATED:20260204T173603Z
LAST-MODIFIED:20260204T173603Z
UID:20233-1771804800-1772841599@www.dosi-project.org
SUMMARY:31st Session of the ISA (Part I)\, Legal and Technical Commission - Kingston\, Jamaica
DESCRIPTION:
URL:https://www.dosi-project.org/event/31st-session-of-the-isa-part-i-legal-and-technical-commission-kingston-jamaica/
CATEGORIES:ISA Meeting
ATTACH;FMTTYPE=image/jpeg:https://www.dosi-project.org/wp-content/uploads/ISA.jpg
END:VEVENT
BEGIN:VEVENT
DTSTART;TZID=UTC:20260225T124500
DTEND;TZID=UTC:20260225T134500
DTSTAMP:20260422T230417
CREATED:20260204T172425Z
LAST-MODIFIED:20260204T172441Z
UID:20230-1772023500-1772027100@www.dosi-project.org
SUMMARY:DOSI Town Hall at Ocean Sciences Meeting - Glasgow\, Scotland
DESCRIPTION:DOSI Town Hall\nDeep-Ocean Science as the Foundation for a Thriving Global Ocean (TH33F)\nWednesday 25 February 2026\, 12:45-13:45\nDOSI is hosting a Town Hall at the Ocean Sciences Meeting in Glasgow\, focused on the essential role of deep-ocean science in underpinning a healthy\, resilient\, and productive global ocean. This session will bring together researchers\, policymakers\, and practitioners to discuss how deep-ocean knowledge supports effective ocean governance\, informs international agreements\, and enables sustainable management across areas within and beyond national jurisdiction. \nThe Town Hall will provide space for open discussion\, community exchange\, and identification of priorities for advancing deep-ocean science in support of global ocean goals. \nThe deep ocean is a vast Earth-spanning ecosystem\, kilometres deep and continuously yielding new discoveries. It is also attracting increasing commercial attention. Nascent deep-sea mining and marine carbon dioxide removal industries are potential significant new pressures on top of ongoing impacts from climate change\, fisheries and offshore energy extraction. We must shed light on these darkest areas of the ocean to safeguard their future. The context of the Biodiversity Beyond National Jurisdiction Agreement and the UN Ocean Decade provide powerful international frameworks within which to rally a global community of deep-ocean stewards. The deep-ocean science community has already been proactive and successful in engaging with the UN Ocean Decade  from the outset. This event gathers representatives of deep-ocean-focused Decade Actions to provide updates of their achievements\, followed by discussions with the audience to identify future opportunities to enhance engagement of the community across the Decade. This call halfway through the Decade for further scientific participation in the future of global ocean sustainability and policy comes at a critical time\, with momentum to generate much needed deep-ocean knowledge. \n \n\nModerators\n\nMaria Baker – University of Southampton\nEva Zoe Ramirez-Llodra – REV Ocean\n\n\n\nPresenters\n\nKirsty McQuaid – Nelson Mandela University\nFengping Wang – Shanghai JiaoTong University\nAdrian Martin – National Oceanography Centre Southampton\nLeslie M Smith – Your Ocean Consulting\, LLC\nLouise Allcock – University of Galway\nAlison Wale – Uu-a-thluk\, Nuu-chah-nulth Tribal Council
URL:https://www.dosi-project.org/event/dosi-town-hall-at-ocean-sciences-meeting-glasgow-scotland/
ATTACH;FMTTYPE=image/png:https://www.dosi-project.org/wp-content/uploads/91263d6d-c1f6-4d1e-a3a4-dadfe33dbc4d.png
END:VEVENT
BEGIN:VEVENT
DTSTART;VALUE=DATE:20260309
DTEND;VALUE=DATE:20260321
DTSTAMP:20260422T230417
CREATED:20260204T173736Z
LAST-MODIFIED:20260331T112214Z
UID:20235-1773014400-1774051199@www.dosi-project.org
SUMMARY:31st Session of the ISA (Part I)\, Council – Kingston\, Jamaica
DESCRIPTION:  \nReflective summary \nDOSI participated in the first part of the 31st session of the Council of the International Seabed Authority (9–19 March 2026\, Kingston\, Jamaica)\, contributing scientific expertise to ongoing negotiations on regulations for deep-sea mining in areas beyond national jurisdiction. \nThroughout the session\, DOSI provided independent\, science-based input to support discussions on environmental protection\, exploitation regulations\, and key governance mechanisms. This included formal interventions and extensive engagement with state delegations and stakeholders on issues such as biodiversity\, ecosystem functions\, cumulative impacts\, and the application of the precautionary approach. \nThe session highlighted the growing recognition of the importance of robust scientific evidence in shaping policy decisions related to the deep ocean. DOSI’s contributions were actively referenced in discussions and welcomed by multiple delegations\, reinforcing the value of sustained scientific engagement in international processes. \nAs negotiations continue\, DOSI remains committed to ensuring that deep-sea science informs decision-making and supports the effective protection and stewardship of ocean ecosystems. \nRead the full blog for detailed insights from the session: \nDOSI at the 31st session of the Council of ISA (Part I)
URL:https://www.dosi-project.org/event/31st-session-of-the-isa-part-i-council-kingston-jamaica/
CATEGORIES:ISA Meeting
ATTACH;FMTTYPE=image/jpeg:https://www.dosi-project.org/wp-content/uploads/ISA.jpg
END:VEVENT
BEGIN:VEVENT
DTSTART;VALUE=DATE:20260323
DTEND;VALUE=DATE:20260403
DTSTAMP:20260422T230417
CREATED:20260204T174557Z
LAST-MODIFIED:20260204T174557Z
UID:20245-1774224000-1775174399@www.dosi-project.org
SUMMARY:BBNJ Preparatory Commission 3 – New York\, USA
DESCRIPTION:DOSI will be sending a delegation to the BBNJ Preparatory Commission. \nMore details of our engagement with the event will follow soon.
URL:https://www.dosi-project.org/event/bbnj-preparatory-commission-3-new-york-usa/
ATTACH;FMTTYPE=image/png:https://www.dosi-project.org/wp-content/uploads/DOSI-at-BBNJ.png
END:VEVENT
BEGIN:VEVENT
DTSTART;VALUE=DATE:20260608
DTEND;VALUE=DATE:20260619
DTSTAMP:20260422T230417
CREATED:20260204T174958Z
LAST-MODIFIED:20260204T174958Z
UID:20247-1780876800-1781827199@www.dosi-project.org
SUMMARY:UNFCCC June Climate Meetings SBI64 – Bonn\, Germany
DESCRIPTION:DOSI will be sending a delegation to UNFCCC SBI64. \nMore details of our engagement with the event will follow soon.
URL:https://www.dosi-project.org/event/unfccc-june-climate-meetings-sbi64-bonn-germany/
ATTACH;FMTTYPE=image/jpeg:https://www.dosi-project.org/wp-content/uploads/small-youth-climate-deep-ocean-presenters.jpg
END:VEVENT
BEGIN:VEVENT
DTSTART;VALUE=DATE:20260629
DTEND;VALUE=DATE:20260711
DTSTAMP:20260422T230417
CREATED:20260204T173910Z
LAST-MODIFIED:20260204T173910Z
UID:20237-1782691200-1783727999@www.dosi-project.org
SUMMARY:31st Session of the ISA (Part II)\, Legal and Technical Commission – Kingston\, Jamaica
DESCRIPTION:
URL:https://www.dosi-project.org/event/31st-session-of-the-isa-part-ii-legal-and-technical-commission-kingston-jamaica/
CATEGORIES:ISA Meeting
ATTACH;FMTTYPE=image/jpeg:https://www.dosi-project.org/wp-content/uploads/ISA.jpg
END:VEVENT
BEGIN:VEVENT
DTSTART;VALUE=DATE:20260707
DTEND;VALUE=DATE:20260711
DTSTAMP:20260422T230417
CREATED:20260204T174020Z
LAST-MODIFIED:20260204T174020Z
UID:20239-1783382400-1783727999@www.dosi-project.org
SUMMARY:31st Session of the ISA (Part II)\, Finance Committee – Kingston\, Jamaica
DESCRIPTION:
URL:https://www.dosi-project.org/event/31st-session-of-the-isa-part-ii-finance-committee-kingston-jamaica/
CATEGORIES:ISA Meeting
ATTACH;FMTTYPE=image/jpeg:https://www.dosi-project.org/wp-content/uploads/ISA.jpg
END:VEVENT
BEGIN:VEVENT
DTSTART;VALUE=DATE:20260713
DTEND;VALUE=DATE:20260725
DTSTAMP:20260422T230417
CREATED:20260204T174139Z
LAST-MODIFIED:20260204T174139Z
UID:20241-1783900800-1784937599@www.dosi-project.org
SUMMARY:31st Session of the ISA (Part II)\, Council – Kingston\, Jamaica
DESCRIPTION:
URL:https://www.dosi-project.org/event/31st-session-of-the-isa-part-ii-council-kingston-jamaica/
CATEGORIES:ISA Meeting
ATTACH;FMTTYPE=image/jpeg:https://www.dosi-project.org/wp-content/uploads/ISA.jpg
END:VEVENT
BEGIN:VEVENT
DTSTART;VALUE=DATE:20260727
DTEND;VALUE=DATE:20260801
DTSTAMP:20260422T230417
CREATED:20260204T174244Z
LAST-MODIFIED:20260204T174244Z
UID:20243-1785110400-1785542399@www.dosi-project.org
SUMMARY:31st Session of the ISA (Part II)\, Assembly – Kingston\, Jamaica
DESCRIPTION:
URL:https://www.dosi-project.org/event/31st-session-of-the-isa-part-ii-assembly-kingston-jamaica/
CATEGORIES:ISA Meeting
ATTACH;FMTTYPE=image/jpeg:https://www.dosi-project.org/wp-content/uploads/ISA.jpg
END:VEVENT
END:VCALENDAR