BEGIN:VCALENDAR
VERSION:2.0
PRODID:-//DOSI - ECPv6.15.20//NONSGML v1.0//EN
CALSCALE:GREGORIAN
METHOD:PUBLISH
X-WR-CALNAME:DOSI
X-ORIGINAL-URL:https://www.dosi-project.org
X-WR-CALDESC:Events for DOSI
REFRESH-INTERVAL;VALUE=DURATION:PT1H
X-Robots-Tag:noindex
X-PUBLISHED-TTL:PT1H
BEGIN:VTIMEZONE
TZID:UTC
BEGIN:STANDARD
TZOFFSETFROM:+0000
TZOFFSETTO:+0000
TZNAME:UTC
DTSTART:20240101T000000
END:STANDARD
END:VTIMEZONE
BEGIN:VEVENT
DTSTART;VALUE=DATE:20250602
DTEND;VALUE=DATE:20250606
DTSTAMP:20260423T043414
CREATED:20250202T170444Z
LAST-MODIFIED:20250602T164620Z
UID:18631-1748822400-1749167999@www.dosi-project.org
SUMMARY:OOSC 2025
DESCRIPTION:One Ocean Science Congress\nNice\, France | 3-6 June 2025\nWe have compiled a list of events\, presentations and posters led DOSI ambassadors and members. If you are attending OOSC 2025 be sure to join in. View the full programme here. \nDeep-ocean related events at the One Ocean Science Congress (DOSI events in blue)\n\n\n\nType\nDate\nSpeaker(s)\nTitle / Description\nTime (CEST)\nLocation\n\n\n\n\nPresentation\n3-Jun-2025\nPradeep Singh\nA pause or moratorium for deep seabed mining in the Area?\n16:10-16:20\nBlue Zone\, Port Lympia\, Room 6\n\n\nPresentation\n3-Jun-2025\nAnna Metaxas\nApplying marine functional connectivity knowledge to meet global conservation targets\n16:55\nBlue Zone\, Port Lympia Room 5\n\n\nPresentation\n3-Jun-2025\nLisa Levin\nBalancing Deep-Ocean Biodiversity\, Carbon\, Resources and Resilience in the Search for Climate Solutions\n16:50-17:00\nBlue Zone\, Port Lympia Room 6\n\n\nPresentation\n3-Jun-2025\nPei-Yuan\nTalk on CliMetS\n10:50–11:00\nBlue Zone\, Port Lympia Room 5\n\n\nWorkshop\n3-Jun-2025\nLaura Elsler\, Lissette Victorero\, Angelee Annasawmy\, Lisa Levin and ECOP network\nIlluminating the Future of the Twilight Zone \nRegistration\n11:30-12:15\nLa Baleine\, Salle Manta\n\n\nPoster\n3–5-Jun-2025\nMarcel Jaspars\nBBNJ Agreement: Considerations for Scientists and Commercial End Users\n–\n–\n\n\nPoster\n3–5-Jun-2025\nAna Colaco\nVulnerable Marine Ecosystems: a concept to be applied\n–\n–\n\n\nTown Hall\n4-Jun-2025\nKelsey Barnhill\nConnecting the Depths: Collaborative Deep Ocean Networks Shaping Ocean Governance\n09:00-10:00\nBlue Zone\, Port Lympia\, Room 6\n\n\nTown Hall\n4-Jun-2025\nLisa Levin\nGovernment-focused principles for ethical and effective marine carbon dioxide removal\n09:00–10:00\nBlue Zone\, Port Lympia Room 7\n\n\nPresentation\n4-Jun-2025\nSabine Gollner\nEnvironmental impacts of deep-sea mining\n–\n–\n\n\nPresentation\n4-Jun-2025\nLissette Victorero\nTowards Global Ecosystem-Based Management for Benthic Seamount Ecosystems\n15:00–15:10\nSession T4-4\, Port Lympia Room 5\n\n\nPresentation\n4-Jun-2025\nMuriel Rabone\nDeep discovery: marine genetic resources and societal challenges under BBNJ\n–\n–\n\n\nPresentation\n5-Jun-2025\nAngelee Annasawmy\nECOP Session 2 – Roadmap for scalable deep-sea research\n08:30–10:00\nBlue Zone\, Port Lympia Room 7\n\n\nPresentation\n5-Jun-2025\nChristine Gaebel\nFrom science to action – Realising knowledge-based governance for BBNJ\n16:30\nBlue Zone\, Port Lympia Room 8\n\n\nPresentation\n5-Jun-2025\nEllycia Harrould-Kolieb\nAssessing food security through the lens of ocean acidification\n09:20–09:30\nSession T7-4\, Room 3\n\n\nPresentation\n5-Jun-2025\nAnna Metaxas\nMonitoring Progress of the Kunming-Montreal Global Biodiversity Framework\n16:40\nBlue Zone\, Port Lympia Room 8\n\n\nSide Event\nTBD\nLucy Woodall (with multiple institutions)\nCritical considerations for effective plastics policy\n–\n–\n\n\nPresentation\n5-Jun-25\nAna Hilario\nSuccessful new approaches for equitable deep-ocean science-policy engagement\n14:30-14:40\nRoom 4
URL:https://www.dosi-project.org/event/one-ocean-science-congress/
LOCATION:UNOC3 Blue Zone Room 3\, Nice\, France
CATEGORIES:Conference
ATTACH;FMTTYPE=image/jpeg:https://www.dosi-project.org/wp-content/uploads/DSRU-Twitter-3.jpg
END:VEVENT
END:VCALENDAR